BEGIN:VCALENDAR
VERSION:2.0
PRODID:-//arcofburlington.org//NONSGML kigkonsult.se iCalcreator 2.30.10//
CALSCALE:GREGORIAN
METHOD:PUBLISH
UID:cc42412f-dfc0-47ce-8ae0-b016e726b8fb
X-WR-CALDESC:
X-WR-RELCALID:f02a2c9b7c20d7cd80eaf8a710580a34
X-WR-TIMEZONE:America/New_York
BEGIN:VTIMEZONE
TZID:America/New_York
BEGIN:STANDARD
TZNAME:EST
DTSTART:20251102T020000
TZOFFSETFROM:-0400
TZOFFSETTO:-0500
RDATE:20261101T020000
RDATE:20271107T020000
END:STANDARD
BEGIN:DAYLIGHT
TZNAME:EDT
DTSTART:20260308T020000
TZOFFSETFROM:-0500
TZOFFSETTO:-0400
RDATE:20270314T020000
END:DAYLIGHT
END:VTIMEZONE
BEGIN:VEVENT
UID:4952c514-3d94-497d-9679-2ad55a98d687
DTSTAMP:20260424T160836Z
DESCRIPTION:
DTSTART;TZID=America/New_York:20260508T190000
DTEND;TZID=America/New_York:20260508T210000
LOCATION:20 Pioneer Blvd\, Westampton\, NJ 08060 US
SUMMARY:May 8th Dance
END:VEVENT
END:VCALENDAR
