BEGIN:VCALENDAR
VERSION:2.0
PRODID:-//arcofburlington.org//NONSGML kigkonsult.se iCalcreator 2.30.10//
CALSCALE:GREGORIAN
METHOD:PUBLISH
UID:73c61ffa-70be-43d7-b18d-78aec532f4e9
X-WR-CALDESC:
X-WR-RELCALID:4c2050fddf0bae25b63443ecbecea9ce
X-WR-TIMEZONE:America/New_York
BEGIN:VTIMEZONE
TZID:America/New_York
BEGIN:STANDARD
TZNAME:EST
DTSTART:20251102T020000
TZOFFSETFROM:-0400
TZOFFSETTO:-0500
RDATE:20261101T020000
END:STANDARD
BEGIN:DAYLIGHT
TZNAME:EDT
DTSTART:20260308T020000
TZOFFSETFROM:-0500
TZOFFSETTO:-0400
RDATE:20270314T020000
END:DAYLIGHT
END:VTIMEZONE
BEGIN:VEVENT
UID:1cf047b1-1c7c-45da-9d06-fd9b0cafbc63
DTSTAMP:20260424T144908Z
DESCRIPTION:
DTSTART;TZID=America/New_York:20260402T180000
DTEND;TZID=America/New_York:20260402T200000
LOCATION:1015 Deacon Rd\, Hainesport\, NJ 08036 US
SUMMARY:Club Connect 04/2/2026
END:VEVENT
END:VCALENDAR
