BEGIN:VCALENDAR
VERSION:2.0
PRODID:-//arcofburlington.org//NONSGML kigkonsult.se iCalcreator 2.30.10//
CALSCALE:GREGORIAN
METHOD:PUBLISH
UID:3032dab6-6346-46fa-9f31-fe068ae99d08
X-WR-CALDESC:Join us for a fun and engaging Saturday Morning Respite design
 ed to provide a safe\, supportive\, and enriching environment for individu
 als with intellectual and developmental disabilities. Participants will en
 joy structured activities\, socialization\, and personalized support.
X-WR-RELCALID:12ccd9cfacf1194b77fe8e7928ececca
X-WR-TIMEZONE:America/New_York
BEGIN:VTIMEZONE
TZID:America/New_York
BEGIN:STANDARD
TZNAME:EST
DTSTART:20251102T020000
TZOFFSETFROM:-0400
TZOFFSETTO:-0500
RDATE:20261101T020000
END:STANDARD
BEGIN:DAYLIGHT
TZNAME:EDT
DTSTART:20260308T020000
TZOFFSETFROM:-0500
TZOFFSETTO:-0400
RDATE:20270314T020000
END:DAYLIGHT
END:VTIMEZONE
BEGIN:VEVENT
UID:9a43f41d-9d6f-4eb7-b76e-c851a2c711c5
DTSTAMP:20260424T144535Z
DESCRIPTION:Join us for a fun and engaging Saturday Morning Respite designe
 d to provide a safe\, supportive\, and enriching environment for individua
 ls with intellectual and developmental disabilities. Participants will enj
 oy structured activities\, socialization\, and personalized support.
DTSTART;TZID=America/New_York:20260411T090000
DTEND;TZID=America/New_York:20260411T140000
LOCATION:1015 Deacon Road\, Hainesport\, NJ 08036 US
SUMMARY:Saturday Morning Respite
END:VEVENT
END:VCALENDAR
