BEGIN:VCALENDAR
VERSION:2.0
PRODID:-//arcofburlington.org//NONSGML kigkonsult.se iCalcreator 2.30.10//
CALSCALE:GREGORIAN
METHOD:PUBLISH
UID:ec1ab82a-71de-4622-ada2-855071d4b950
X-WR-CALDESC:
X-WR-RELCALID:d3dc77bbac80caffd88ba4656282fc92
X-WR-TIMEZONE:America/New_York
BEGIN:VTIMEZONE
TZID:America/New_York
BEGIN:STANDARD
TZNAME:EST
DTSTART:20251102T020000
TZOFFSETFROM:-0400
TZOFFSETTO:-0500
RDATE:20261101T020000
END:STANDARD
BEGIN:DAYLIGHT
TZNAME:EDT
DTSTART:20250309T020000
TZOFFSETFROM:-0500
TZOFFSETTO:-0400
RDATE:20260308T020000
RDATE:20270314T020000
END:DAYLIGHT
END:VTIMEZONE
BEGIN:VEVENT
UID:47c9fd0e-e3f0-4466-8900-e1067dd2ba8e
DTSTAMP:20260424T161631Z
DESCRIPTION:
DTSTART;TZID=America/New_York:20260305T180000
DTEND;TZID=America/New_York:20260305T200000
LOCATION:1015 Deacon Rd\, Hainesport\, NJ 08036 US
SUMMARY:Club Connect 3/5/2026
END:VEVENT
END:VCALENDAR
