BEGIN:VCALENDAR
VERSION:2.0
PRODID:-//arcofburlington.org//NONSGML kigkonsult.se iCalcreator 2.30.10//
CALSCALE:GREGORIAN
METHOD:PUBLISH
UID:1e0a5332-93ad-49c7-b376-f7fb8a16df46
X-WR-CALDESC:
X-WR-RELCALID:e95f0700fc43773607afc8e1d0e671c8
X-WR-TIMEZONE:America/New_York
BEGIN:VTIMEZONE
TZID:America/New_York
BEGIN:STANDARD
TZNAME:EST
DTSTART:20251102T020000
TZOFFSETFROM:-0400
TZOFFSETTO:-0500
RDATE:20261101T020000
END:STANDARD
BEGIN:DAYLIGHT
TZNAME:EDT
DTSTART:20260308T020000
TZOFFSETFROM:-0500
TZOFFSETTO:-0400
RDATE:20270314T020000
END:DAYLIGHT
END:VTIMEZONE
BEGIN:VEVENT
UID:48e45993-8a48-46e2-80be-47e954394ced
DTSTAMP:20260424T161336Z
DESCRIPTION:
DTSTART;TZID=America/New_York:20260320T190000
DTEND;TZID=America/New_York:20260320T210000
LOCATION:20 Pioneer Blvd\, Westampton\, NJ 08060 US
SUMMARY:March 20th Dance
END:VEVENT
END:VCALENDAR
