BEGIN:VCALENDAR
VERSION:2.0
PRODID:-//arcofburlington.org//NONSGML kigkonsult.se iCalcreator 2.30.10//
CALSCALE:GREGORIAN
METHOD:PUBLISH
UID:efe82ff0-719a-4433-a8f9-646ecda83b7a
X-WR-CALDESC:
X-WR-RELCALID:0394a65036145714256bb2cbb53aa421
X-WR-TIMEZONE:America/New_York
BEGIN:VTIMEZONE
TZID:America/New_York
BEGIN:STANDARD
TZNAME:EST
DTSTART:20251102T020000
TZOFFSETFROM:-0400
TZOFFSETTO:-0500
RDATE:20261101T020000
END:STANDARD
BEGIN:DAYLIGHT
TZNAME:EDT
DTSTART:20260308T020000
TZOFFSETFROM:-0500
TZOFFSETTO:-0400
RDATE:20270314T020000
END:DAYLIGHT
END:VTIMEZONE
BEGIN:VEVENT
UID:fef76f27-e274-4193-adc8-f14c8a338ea1
DTSTAMP:20260424T161504Z
DESCRIPTION:
DTSTART;TZID=America/New_York:20260326T180000
DTEND;TZID=America/New_York:20260326T200000
LOCATION:1015 Deacon Rd\, Hainesport\, NJ 08036 US
SUMMARY:Club Connect 03/26/2026
END:VEVENT
END:VCALENDAR
