BEGIN:VCALENDAR
VERSION:2.0
PRODID:-//arcofburlington.org//NONSGML kigkonsult.se iCalcreator 2.30.10//
CALSCALE:GREGORIAN
METHOD:PUBLISH
UID:521897ab-4fc3-40ad-a3ff-cf3a7a6b9f92
X-WR-CALDESC:
X-WR-RELCALID:63d665211e9c7cc5c8a1d961c2da70b7
X-WR-TIMEZONE:America/New_York
BEGIN:VTIMEZONE
TZID:America/New_York
BEGIN:STANDARD
TZNAME:EST
DTSTART:20251102T020000
TZOFFSETFROM:-0400
TZOFFSETTO:-0500
RDATE:20261101T020000
END:STANDARD
BEGIN:DAYLIGHT
TZNAME:EDT
DTSTART:20260308T020000
TZOFFSETFROM:-0500
TZOFFSETTO:-0400
RDATE:20270314T020000
END:DAYLIGHT
END:VTIMEZONE
BEGIN:VEVENT
UID:8c9bab4f-2d07-43cb-8ea0-a53201970e05
DTSTAMP:20260420T074049Z
DESCRIPTION:
DTSTART;TZID=America/New_York:20260417T190000
DTEND;TZID=America/New_York:20260417T210000
LOCATION:20 Pioneer Blvd\, Westampton\, NJ 08060 US
SUMMARY:April 17th Dance
END:VEVENT
END:VCALENDAR
