BEGIN:VCALENDAR
VERSION:2.0
PRODID:-//arcofburlington.org//NONSGML kigkonsult.se iCalcreator 2.30.10//
CALSCALE:GREGORIAN
METHOD:PUBLISH
UID:1f3efa05-0084-47b8-9c24-6f646f89eacb
X-WR-CALDESC:
X-WR-RELCALID:280d9d9783b0229510261cd68a0a173b
X-WR-TIMEZONE:America/New_York
BEGIN:VTIMEZONE
TZID:America/New_York
BEGIN:STANDARD
TZNAME:EST
DTSTART:20251102T020000
TZOFFSETFROM:-0400
TZOFFSETTO:-0500
RDATE:20261101T020000
END:STANDARD
BEGIN:DAYLIGHT
TZNAME:EDT
DTSTART:20260308T020000
TZOFFSETFROM:-0500
TZOFFSETTO:-0400
RDATE:20270314T020000
END:DAYLIGHT
END:VTIMEZONE
BEGIN:VEVENT
UID:20ed79d1-bd0d-4fc9-89dd-4620aae05214
DTSTAMP:20260424T160858Z
DESCRIPTION:
DTSTART;TZID=America/New_York:20260507T180000
DTEND;TZID=America/New_York:20260507T200000
LOCATION:1015 Deacon Rd\, Hainesport\, NJ 08036 US
SUMMARY:Club Connect
END:VEVENT
END:VCALENDAR
