BEGIN:VCALENDAR
VERSION:2.0
PRODID:-//arcofburlington.org//NONSGML kigkonsult.se iCalcreator 2.30.10//
CALSCALE:GREGORIAN
METHOD:PUBLISH
UID:50e97783-23f4-46e1-841d-7aaac32aa8e5
X-WR-CALDESC:
X-WR-RELCALID:8e4e33c0dd80f00f4b89b98de396642b
X-WR-TIMEZONE:America/New_York
BEGIN:VTIMEZONE
TZID:America/New_York
BEGIN:STANDARD
TZNAME:EST
DTSTART:20251102T020000
TZOFFSETFROM:-0400
TZOFFSETTO:-0500
RDATE:20261101T020000
RDATE:20271107T020000
END:STANDARD
BEGIN:DAYLIGHT
TZNAME:EDT
DTSTART:20260308T020000
TZOFFSETFROM:-0500
TZOFFSETTO:-0400
RDATE:20270314T020000
END:DAYLIGHT
END:VTIMEZONE
BEGIN:VEVENT
UID:eb85103a-b308-4fb6-ac02-bb4b7a09fd31
DTSTAMP:20260424T161010Z
DESCRIPTION:
DTSTART;TZID=America/New_York:20260509T090000
DTEND;TZID=America/New_York:20260509T140000
LOCATION:1015 Deacon Road\, Hainesport\, NJ 08036 US
SUMMARY:Saturday Morning Respite
END:VEVENT
END:VCALENDAR
