BEGIN:VCALENDAR
VERSION:2.0
PRODID:-//arcofburlington.org//NONSGML kigkonsult.se iCalcreator 2.30.10//
CALSCALE:GREGORIAN
METHOD:PUBLISH
UID:04e833fe-5364-499c-af80-a66e821e213e
X-WR-CALDESC:
X-WR-RELCALID:761e037a379527aa08e6da02bdce64d8
X-WR-TIMEZONE:America/New_York
BEGIN:VTIMEZONE
TZID:America/New_York
BEGIN:STANDARD
TZNAME:EST
DTSTART:20251102T020000
TZOFFSETFROM:-0400
TZOFFSETTO:-0500
RDATE:20261101T020000
RDATE:20271107T020000
END:STANDARD
BEGIN:DAYLIGHT
TZNAME:EDT
DTSTART:20260308T020000
TZOFFSETFROM:-0500
TZOFFSETTO:-0400
RDATE:20270314T020000
END:DAYLIGHT
END:VTIMEZONE
BEGIN:VEVENT
UID:bfbd234c-2769-431a-b5c1-abdf8472704a
DTSTAMP:20260424T160836Z
DESCRIPTION:
DTSTART;TZID=America/New_York:20260514T170000
DTEND;TZID=America/New_York:20260514T210000
LOCATION:A Touch of Class\, 3001 US-130\, Delran\, NJ 08075 US
SUMMARY:The Arc Prom
END:VEVENT
END:VCALENDAR
