BEGIN:VCALENDAR
VERSION:2.0
PRODID:-//arcofburlington.org//NONSGML kigkonsult.se iCalcreator 2.30.10//
CALSCALE:GREGORIAN
METHOD:PUBLISH
UID:7a03b5b9-dcdd-487a-80e8-0b3fbed47f74
X-WR-CALDESC:
X-WR-RELCALID:9c8e52cbf4a77251e0e0299beabb7bab
X-WR-TIMEZONE:America/New_York
BEGIN:VTIMEZONE
TZID:America/New_York
BEGIN:STANDARD
TZNAME:EST
DTSTART:20251102T020000
TZOFFSETFROM:-0400
TZOFFSETTO:-0500
RDATE:20261101T020000
RDATE:20271107T020000
END:STANDARD
BEGIN:DAYLIGHT
TZNAME:EDT
DTSTART:20260308T020000
TZOFFSETFROM:-0500
TZOFFSETTO:-0400
RDATE:20270314T020000
END:DAYLIGHT
END:VTIMEZONE
BEGIN:VEVENT
UID:7cc6948a-3bba-4e62-946f-c72550264e10
DTSTAMP:20260424T161044Z
DESCRIPTION:
DTSTART;TZID=America/New_York:20260523T090000
DTEND;TZID=America/New_York:20260523T140000
LOCATION:1015 Deacon Road\, Hainesport\, NJ 08036 US
SUMMARY:Saturday Morning Respite
END:VEVENT
END:VCALENDAR
