BEGIN:VCALENDAR
VERSION:2.0
PRODID:-//arcofburlington.org//NONSGML kigkonsult.se iCalcreator 2.30.10//
CALSCALE:GREGORIAN
METHOD:PUBLISH
UID:f9a4c5ff-401e-4b5f-a716-22b77f078856
X-WR-CALDESC:
X-WR-RELCALID:f819c384dce2e994054ebc72ad16ad77
X-WR-TIMEZONE:America/New_York
BEGIN:VTIMEZONE
TZID:America/New_York
BEGIN:STANDARD
TZNAME:EST
DTSTART:20251102T020000
TZOFFSETFROM:-0400
TZOFFSETTO:-0500
RDATE:20261101T020000
RDATE:20271107T020000
END:STANDARD
BEGIN:DAYLIGHT
TZNAME:EDT
DTSTART:20260308T020000
TZOFFSETFROM:-0500
TZOFFSETTO:-0400
RDATE:20270314T020000
END:DAYLIGHT
END:VTIMEZONE
BEGIN:VEVENT
UID:5b0b9c83-3af1-4bbb-8437-28877fa96c64
DTSTAMP:20260424T160858Z
DESCRIPTION:
DTSTART;TZID=America/New_York:20260528T180000
DTEND;TZID=America/New_York:20260528T200000
LOCATION:1015 Deacon Rd\, Hainesport\, NJ 08036 US
SUMMARY:Club Connect
END:VEVENT
END:VCALENDAR
