BEGIN:VCALENDAR
VERSION:2.0
PRODID:-//arcofburlington.org//NONSGML kigkonsult.se iCalcreator 2.30.10//
CALSCALE:GREGORIAN
METHOD:PUBLISH
UID:1ac9b5d3-32ab-47b6-868b-76c3db4b71ea
X-WR-CALDESC:
X-WR-RELCALID:6649e22c7443b556a49f4b4b530f3e7e
X-WR-TIMEZONE:America/New_York
BEGIN:VTIMEZONE
TZID:America/New_York
BEGIN:STANDARD
TZNAME:EST
DTSTART:20251102T020000
TZOFFSETFROM:-0400
TZOFFSETTO:-0500
RDATE:20261101T020000
RDATE:20271107T020000
END:STANDARD
BEGIN:DAYLIGHT
TZNAME:EDT
DTSTART:20260308T020000
TZOFFSETFROM:-0500
TZOFFSETTO:-0400
RDATE:20270314T020000
END:DAYLIGHT
END:VTIMEZONE
BEGIN:VEVENT
UID:27b2b53d-01a1-4890-a9cb-15bc53a59d39
DTSTAMP:20260424T174014Z
DESCRIPTION:
DTSTART;TZID=America/New_York:20260620T090000
DTEND;TZID=America/New_York:20260620T140000
LOCATION:1015 Deacon Road\, Hainesport\, NJ 08036 US
SUMMARY:Saturday Morning Respite
END:VEVENT
END:VCALENDAR
